BEGIN:VCALENDAR
VERSION:2.0
PRODID:-//ChamberMaster//Event Calendar 2.0//EN
METHOD:PUBLISH
X-PUBLISHED-TTL:P3D
REFRESH-INTERVAL:P3D
CALSCALE:GREGORIAN
BEGIN:VEVENT
DTSTART:20161018T220000Z
DTEND:20161019T000000Z
X-MICROSOFT-CDO-ALLDAYEVENT:FALSE
SUMMARY:Managing Expectations When It Comes to Dementia
DESCRIPTION:Join Dr. Gary Figiel and Dr. Steven Figiel\, geriatric specialists\, to learn about the stages of Alzheimer's disease and what to expect.  Light Dinner Served.  Kindly RSVP
X-ALT-DESC;FMTTYPE=text/html:Join Dr. Gary Figiel and Dr. Steven Figiel\, geriatric specialists\, to learn about the stages of Alzheimer&#39\;s disease and what to expect.&nbsp\; Light Dinner Served.&nbsp\; Kindly RSVP
LOCATION:Benton House of Covington Senior Living Community 7155 Dearing Road Covington\, Ga 30014
UID:e.1627.3069
SEQUENCE:3
DTSTAMP:20260421T235728Z
URL:https://business.newtonchamber.com/events/details/managing-expectations-when-it-comes-to-dementia-3069
END:VEVENT

END:VCALENDAR
