BEGIN:VCALENDAR
VERSION:2.0
PRODID:-//ChamberMaster//Event Calendar 2.0//EN
METHOD:PUBLISH
X-PUBLISHED-TTL:P3D
REFRESH-INTERVAL:P3D
CALSCALE:GREGORIAN
BEGIN:VEVENT
DTSTART:20200513T160000Z
DTEND:20200513T170000Z
X-MICROSOFT-CDO-ALLDAYEVENT:FALSE
SUMMARY:LUNCH & ZOOM with David Kent\, CEO Piedmont Newton
DESCRIPTION:Join us for Lunch and Zoom with David Kent\, new CEO for Piedmont Newton Hospital
X-ALT-DESC;FMTTYPE=text/html:Join us for Lunch and Zoom with David Kent\, new CEO for Piedmont Newton Hospital
LOCATION:Zoom Call Info: https://us02web.zoom.us/j/8676921480 Meeting ID: 867 692 1480 +1 646 558 8656
UID:e.1627.10072
SEQUENCE:3
DTSTAMP:20260420T061837Z
URL:https://business.newtonchamber.com/events/details/lunch-zoom-with-david-kent-ceo-piedmont-newton-10072
END:VEVENT

END:VCALENDAR
