BEGIN:VCALENDAR
VERSION:2.0
PRODID:-//ChamberMaster//Event Calendar 2.0//EN
METHOD:PUBLISH
X-PUBLISHED-TTL:P3D
REFRESH-INTERVAL:P3D
CALSCALE:GREGORIAN
BEGIN:VEVENT
DTSTART:20160413T154500Z
DTEND:20160413T170000Z
X-MICROSOFT-CDO-ALLDAYEVENT:FALSE
SUMMARY:LUNCH LINK
DESCRIPTION:Piedmont Newton Lunch Link Series        \n\nPlease Register by noon Friday April 8\, 2016
X-ALT-DESC;FMTTYPE=text/html:Piedmont Newton Lunch Link Series&nbsp\;&nbsp\;&nbsp\;&nbsp\;&nbsp\;&nbsp\;&nbsp\;&nbsp\;<br />\nPlease Register by noon Friday April 8\, 2016
LOCATION:The Center 2104 Washington Street Covington\, GA 30014
UID:e.1627.1701
SEQUENCE:3
DTSTAMP:20260421T134013Z
URL:https://business.newtonchamber.com/events/details/lunch-link-04-13-2016-1701
END:VEVENT

END:VCALENDAR
