BEGIN:VCALENDAR
VERSION:2.0
PRODID:-//ChamberMaster//Event Calendar 2.0//EN
METHOD:PUBLISH
X-PUBLISHED-TTL:P3D
REFRESH-INTERVAL:P3D
CALSCALE:GREGORIAN
BEGIN:VEVENT
DTSTART:20170708T160000Z
DTEND:20170708T180000Z
X-MICROSOFT-CDO-ALLDAYEVENT:FALSE
SUMMARY:Lunch & Learn Hosted by Smart Money Education Services
DESCRIPTION:Smart Money Education Services hosts a Lunch & Learn eat with us & find out How Millionaries Get Rich!!! Also learn to lower your taxes\, learn how to improve your personal credit scores (also tips on how to build business credit)\, how to eliminate your debt\, along with how to put $100-$1000 in your pocket in 30 days through a system called "Income Shifting".
X-ALT-DESC;FMTTYPE=text/html:<span style="font-family:courier new">Smart Money Education Services hosts a</span><u><strong><span style="font-size:16px"> Lunch &amp\; Learn</span></strong></u> <span style="font-family:courier new">eat with us &amp\; find out How Millionaries Get Rich!!! Also</span> <span style="font-family:courier new">learn to lower your taxes\, learn how to improve your personal credit scores (also tips on how to build business credit)\, how to eliminate your debt\, along with how to put $100-$1000 in your pocket in 30 days through a system called &quot\;Income Shifting&quot\;.</span>
LOCATION:Smart Money Education Services Training Cener Located at 889 Commerce Drive Suite D Upstairs Conyers\, GA 30094
UID:e.1627.3795
SEQUENCE:3
DTSTAMP:20260422T114527Z
URL:https://business.newtonchamber.com/events/details/lunch-learn-hosted-by-smart-money-education-services-3795
END:VEVENT

END:VCALENDAR
