BEGIN:VCALENDAR
VERSION:2.0
PRODID:-//ChamberMaster//Event Calendar 2.0//EN
METHOD:PUBLISH
X-PUBLISHED-TTL:P3D
REFRESH-INTERVAL:P3D
CALSCALE:GREGORIAN
BEGIN:VEVENT
DTSTART:20160625T000000Z
DTEND:20160625T020000Z
X-MICROSOFT-CDO-ALLDAYEVENT:FALSE
SUMMARY:Live Music Fridays!
DESCRIPTION:Tonight's the night! Whiskey Bent is in the house and we couldn't be more excited!! You should join us all too! We'll be awestruck together!
X-ALT-DESC;FMTTYPE=text/html:Tonight&#39\;s the night! Whiskey Bent is in the house and we couldn&#39\;t be more excited!! You should join us all too! We&#39\;ll be awestruck together!
LOCATION:AMICI Downtown Covington
UID:e.1627.1750
SEQUENCE:3
DTSTAMP:20260421T171501Z
URL:https://business.newtonchamber.com/events/details/live-music-fridays-06-24-2016-1750
END:VEVENT

END:VCALENDAR
