BEGIN:VCALENDAR
VERSION:2.0
PRODID:-//ChamberMaster//Event Calendar 2.0//EN
METHOD:PUBLISH
X-PUBLISHED-TTL:P3D
REFRESH-INTERVAL:P3D
CALSCALE:GREGORIAN
BEGIN:VEVENT
DTSTART:20160618T000000Z
DTEND:20160618T020000Z
X-MICROSOFT-CDO-ALLDAYEVENT:FALSE
SUMMARY:Live Music Fridays!
DESCRIPTION:The lovely Brooke Serano will be gracing us with her presence\, and mesmerizing us with her beautiful voice! Come on in and eat\, drink\, relax\, and enjoy!
X-ALT-DESC;FMTTYPE=text/html:The lovely Brooke Serano will be gracing us with her presence\, and mesmerizing us with her beautiful voice! Come on in and eat\, drink\, relax\, and enjoy!
LOCATION:AMICI Downtown Covington
UID:e.1627.1749
SEQUENCE:3
DTSTAMP:20260421T184154Z
URL:https://business.newtonchamber.com/events/details/live-music-fridays-06-17-2016-1749
END:VEVENT

END:VCALENDAR
