BEGIN:VCALENDAR
VERSION:2.0
PRODID:-//ChamberMaster//Event Calendar 2.0//EN
METHOD:PUBLISH
X-PUBLISHED-TTL:P3D
REFRESH-INTERVAL:P3D
CALSCALE:GREGORIAN
BEGIN:VEVENT
DTSTART:20160611T000000Z
DTEND:20160611T020000Z
X-MICROSOFT-CDO-ALLDAYEVENT:FALSE
SUMMARY:Live Music Fridays!
DESCRIPTION:This evening we'll be swaying to the tunes of Benson & Leinweber! You couldn't ask for a better end to the week!
X-ALT-DESC;FMTTYPE=text/html:This evening we&#39\;ll be swaying to the tunes of Benson &amp\; Leinweber! You couldn&#39\;t ask for a better end to the week!
LOCATION:AMICI Downtown Covington
UID:e.1627.1748
SEQUENCE:3
DTSTAMP:20260421T183715Z
URL:https://business.newtonchamber.com/events/details/live-music-fridays-06-10-2016-1748
END:VEVENT

END:VCALENDAR
