BEGIN:VCALENDAR
VERSION:2.0
PRODID:-//ChamberMaster//Event Calendar 2.0//EN
METHOD:PUBLISH
X-PUBLISHED-TTL:P3D
REFRESH-INTERVAL:P3D
CALSCALE:GREGORIAN
BEGIN:VEVENT
DTSTART:20160604T000000Z
DTEND:20160604T020000Z
X-MICROSOFT-CDO-ALLDAYEVENT:FALSE
SUMMARY:Live Music Fridays!
DESCRIPTION:Chris & John & Scott will be here for everyone's entertainment! These guys a fab and if you havne't seen them yet\, you need to be here!
X-ALT-DESC;FMTTYPE=text/html:Chris &amp\; John &amp\; Scott will be here for everyone&#39\;s entertainment! These guys a fab and if you havne&#39\;t seen them yet\, you need to be here!
LOCATION:AMICI Downtown Covington
UID:e.1627.1747
SEQUENCE:3
DTSTAMP:20260421T184225Z
URL:https://business.newtonchamber.com/events/details/live-music-fridays-06-03-2016-1747
END:VEVENT

END:VCALENDAR
