BEGIN:VCALENDAR
VERSION:2.0
PRODID:-//ChamberMaster//Event Calendar 2.0//EN
METHOD:PUBLISH
X-PUBLISHED-TTL:P3D
REFRESH-INTERVAL:P3D
CALSCALE:GREGORIAN
BEGIN:VEVENT
DTSTART:20160528T000000Z
DTEND:20160528T020000Z
X-MICROSOFT-CDO-ALLDAYEVENT:FALSE
SUMMARY:Live Music Fridays!
DESCRIPTION:This magical evening\, High Charity will be moving and grooving in our dining room! Come enjoy the food\, people\, and obviously good tunes!!
X-ALT-DESC;FMTTYPE=text/html:This magical evening\, High Charity will be moving and grooving in our dining room! Come enjoy the food\, people\, and obviously good tunes!!
LOCATION:AMICI
UID:e.1627.1746
SEQUENCE:3
DTSTAMP:20260421T153437Z
URL:https://business.newtonchamber.com/events/details/live-music-fridays-05-27-2016-1746
END:VEVENT

END:VCALENDAR
