BEGIN:VCALENDAR
VERSION:2.0
PRODID:-//ChamberMaster//Event Calendar 2.0//EN
METHOD:PUBLISH
X-PUBLISHED-TTL:P3D
REFRESH-INTERVAL:P3D
CALSCALE:GREGORIAN
BEGIN:VEVENT
DTSTART:20160521T000000Z
DTEND:20160521T020000Z
X-MICROSOFT-CDO-ALLDAYEVENT:FALSE
SUMMARY:Live Music Fridays!
DESCRIPTION:Ever seen a glass of beer disappear? Ask U-Pang to show you when he takes a break from entertaining us all!
X-ALT-DESC;FMTTYPE=text/html:Ever seen a glass of beer disappear? Ask U-Pang to show you when he takes a break from entertaining us all!&nbsp\;
LOCATION:AMICI
UID:e.1627.1745
SEQUENCE:3
DTSTAMP:20260421T154018Z
URL:https://business.newtonchamber.com/events/details/live-music-fridays-05-20-2016-1745
END:VEVENT

END:VCALENDAR
