BEGIN:VCALENDAR
VERSION:2.0
PRODID:-//ChamberMaster//Event Calendar 2.0//EN
METHOD:PUBLISH
X-PUBLISHED-TTL:P3D
REFRESH-INTERVAL:P3D
CALSCALE:GREGORIAN
BEGIN:VEVENT
DTSTART:20160514T000000Z
DTEND:20160514T020000Z
X-MICROSOFT-CDO-ALLDAYEVENT:FALSE
SUMMARY:Live Music Fridays!
DESCRIPTION:Matt Moncrief returns again! We can't wait to hear him pllay\, just like we can't wait to serve you! Bring your family and friends\, it's party time!
X-ALT-DESC;FMTTYPE=text/html:Matt Moncrief returns again! We can&#39\;t wait to hear him pllay\, just like we can&#39\;t wait to serve you! Bring your family and friends\, it&#39\;s party time!
LOCATION:AMICI
UID:e.1627.1744
SEQUENCE:3
DTSTAMP:20260421T152706Z
URL:https://business.newtonchamber.com/events/details/live-music-fridays-05-13-2016-1744
END:VEVENT

END:VCALENDAR
