BEGIN:VCALENDAR
VERSION:2.0
PRODID:-//ChamberMaster//Event Calendar 2.0//EN
METHOD:PUBLISH
X-PUBLISHED-TTL:P3D
REFRESH-INTERVAL:P3D
CALSCALE:GREGORIAN
BEGIN:VEVENT
DTSTART:20180728T210000Z
DTEND:20180728T220000Z
X-MICROSOFT-CDO-ALLDAYEVENT:FALSE
SUMMARY:Lasagna Supper
DESCRIPTION:Don't feel like cooking?  Stop by for a lasagna supper\, including bread\, salad & dessert. Please call to RSVP by 7/20/18
X-ALT-DESC;FMTTYPE=text/html:Don&#39\;t feel like cooking?&nbsp\; Stop by for a lasagna supper\, including bread\, salad &amp\; dessert. Please call to RSVP by 7/20/18
LOCATION:Benton House of Covington 7155 Dearing Rd. Covington\, GA 30014
UID:e.1627.6672
SEQUENCE:3
DTSTAMP:20260423T030921Z
URL:https://business.newtonchamber.com/events/details/lasagna-supper-6672
END:VEVENT

END:VCALENDAR
