BEGIN:VCALENDAR
VERSION:2.0
PRODID:-//ChamberMaster//Event Calendar 2.0//EN
METHOD:PUBLISH
X-PUBLISHED-TTL:P3D
REFRESH-INTERVAL:P3D
CALSCALE:GREGORIAN
BEGIN:VEVENT
DTSTART:20161208T234000Z
DTEND:20161209T013000Z
X-MICROSOFT-CDO-ALLDAYEVENT:FALSE
SUMMARY:Ladies Night Out
DESCRIPTION:Covington Family Chiropractic is hosting a ladies night out event! Come out and get some lst minute Christmas shopping done with over 20 vendors ranging from Lula Roe\, Pampered Chef\, Tupperware\, Thirty One\, Mary Kay\, Origami Owl\, Rodan and Fields\, TruNorth Woods\, Jessicakes and SO many more!\n\n?We will have snacks\, dessert\, raffles and door prizes!
X-ALT-DESC;FMTTYPE=text/html:<div>Covington Family Chiropractic is hosting&nbsp\;a ladies night out event! Come out and get some lst minute Christmas shopping done with over 20 vendors ranging from Lula Roe\, Pampered Chef\, Tupperware\, Thirty One\, Mary Kay\, Origami Owl\, Rodan and Fields\, TruNorth Woods\, Jessicakes and SO many more!<br />\n?We will have snacks\, dessert\, raffles and door prizes!</div>\n
LOCATION:Covington Family Chiropractic 2125 Pace Street Covington GA 30014
UID:e.1627.3711
SEQUENCE:3
DTSTAMP:20260422T011358Z
URL:https://business.newtonchamber.com/events/details/ladies-night-out-3711
END:VEVENT

END:VCALENDAR
