BEGIN:VCALENDAR
VERSION:2.0
PRODID:-//ChamberMaster//Event Calendar 2.0//EN
METHOD:PUBLISH
X-PUBLISHED-TTL:P3D
REFRESH-INTERVAL:P3D
CALSCALE:GREGORIAN
BEGIN:VEVENT
DTSTART:20190503T223000Z
DTEND:20190504T003000Z
X-MICROSOFT-CDO-ALLDAYEVENT:FALSE
SUMMARY:Ladies' Night Out
DESCRIPTION:At Ladies' Night Out we will be having an office full of vendors\, along with Kona Ice\, Johnny's Pizza\, and a Bounce House! It's free to attend for everyone and kid friendly! (Yes\, even the guys can stop by!) We will be having raffles with raffle tickets being sold at the event with all proceeds being donated to Newton Pregnancy Resource Center.
X-ALT-DESC;FMTTYPE=text/html:<p>At Ladies&#39\; Night Out we will be having an office full of vendors\, along with Kona Ice\, Johnny&#39\;s Pizza\, and a Bounce House! It&#39\;s free to attend for everyone and kid friendly! (Yes\, even the guys can stop by!) We will be having raffles with raffle tickets being sold at the event with all proceeds being donated to Newton Pregnancy Resource Center.</p>\n
LOCATION:Covington Family Chiropractic office - 2125 B Pace St.\, Covington\, Ga 30014
UID:e.1627.7228
SEQUENCE:3
DTSTAMP:20260422T094907Z
URL:https://business.newtonchamber.com/events/details/ladies-night-out-05-03-2019-7228
END:VEVENT

END:VCALENDAR
