BEGIN:VCALENDAR
VERSION:2.0
PRODID:-//ChamberMaster//Event Calendar 2.0//EN
METHOD:PUBLISH
X-PUBLISHED-TTL:P3D
REFRESH-INTERVAL:P3D
CALSCALE:GREGORIAN
BEGIN:VEVENT
DTSTART;VALUE=DATE:20180412
DTEND;VALUE=DATE:20180413
TRANSP:TRANSPARENT
X-MICROSOFT-CDO-ALLDAYEVENT:TRUE
SUMMARY:Ladies Clinic at The Oaks Course
DESCRIPTION:A four week program for 39.00. 5pm to 6pm. Open to all skill levels! A fun\, social gathering! Call or go online to golfoaks.com for more information!  770-786-3801
X-ALT-DESC;FMTTYPE=text/html:A four week program for 39.00. 5pm to 6pm. Open to all skill levels! A fun\, social gathering! Call or go online to golfoaks.com for more information!&nbsp\; 770-786-3801
LOCATION:The Oaks Course 11240 BrownsBridge Road Covington\, GA 30014 770-786-3801
UID:e.1627.5400
SEQUENCE:3
DTSTAMP:20260423T031604Z
URL:https://business.newtonchamber.com/events/details/ladies-clinic-at-the-oaks-course-5400
END:VEVENT

END:VCALENDAR
