BEGIN:VCALENDAR
VERSION:2.0
PRODID:-//ChamberMaster//Event Calendar 2.0//EN
METHOD:PUBLISH
X-PUBLISHED-TTL:P3D
REFRESH-INTERVAL:P3D
CALSCALE:GREGORIAN
BEGIN:VEVENT
DTSTART;VALUE=DATE:20180607
DTEND;VALUE=DATE:20180608
TRANSP:TRANSPARENT
X-MICROSOFT-CDO-ALLDAYEVENT:TRUE
SUMMARY:Ladies Clinic at The Oaks Course
DESCRIPTION:For more information got golfoaks.com
X-ALT-DESC;FMTTYPE=text/html:For more information got golfoaks.com
LOCATION:
UID:e.1627.6652
SEQUENCE:3
DTSTAMP:20260423T032621Z
URL:https://business.newtonchamber.com/events/details/ladies-clinic-at-the-oaks-course-06-07-2018-6652
END:VEVENT

END:VCALENDAR
