BEGIN:VCALENDAR
VERSION:2.0
PRODID:-//ChamberMaster//Event Calendar 2.0//EN
METHOD:PUBLISH
X-PUBLISHED-TTL:P3D
REFRESH-INTERVAL:P3D
CALSCALE:GREGORIAN
BEGIN:VEVENT
DTSTART;VALUE=DATE:20161114
DTEND;VALUE=DATE:20161115
TRANSP:TRANSPARENT
X-MICROSOFT-CDO-ALLDAYEVENT:TRUE
SUMMARY:KCNB's Paper Shred Event
DESCRIPTION:Newton County residents can bring paper documents to KCNB's Paper Shred Event at the Newton County Library parking lot (left side\, 7116 Floyd St.\, NE.) on Monday\, November 14\, from 9 a.m. to 2 p.m. or until the shred truck is full--for FREE on site shredding.  Limit:  5 standard boxes per person.  This is an America Recycles Day Event\, and all paper will be recycled! Visit www.kcnb.biz for event details.
X-ALT-DESC;FMTTYPE=text/html:<span style="font-size:14.0pt">Newton County residents can bring paper documents to KCNB&rsquo\;s Paper Shred Event at the Newton County Library parking lot (left side\, 7116 Floyd St.\, NE.) on Monday\, November 14\, from 9 a.m. to 2 p.m.&mdash\;or until the shred truck is full--for FREE on site shredding.&nbsp\; Limit:&nbsp\; 5 standard boxes per person.&nbsp\; This is an America Recycles Day Event\, and all paper will be recycled! Visit www.kcnb.biz for event details.</span>
LOCATION:Newton County Library parking lot left side (7116 Floyd St.\, NE Covington\, GA 30014)
UID:e.1627.3694
SEQUENCE:3
DTSTAMP:20260422T011509Z
URL:https://business.newtonchamber.com/events/details/kcnb-s-paper-shred-event-3694
END:VEVENT

END:VCALENDAR
