BEGIN:VCALENDAR
VERSION:2.0
PRODID:-//ChamberMaster//Event Calendar 2.0//EN
METHOD:PUBLISH
X-PUBLISHED-TTL:P3D
REFRESH-INTERVAL:P3D
CALSCALE:GREGORIAN
BEGIN:VEVENT
DTSTART:20170908T130000Z
DTEND:20170908T220000Z
X-MICROSOFT-CDO-ALLDAYEVENT:FALSE
SUMMARY:in- store flu clinics
DESCRIPTION:This is the first of five in-store flu clinics that Carmichael's will offer to the public for the 2017 flu season.  The other dates are:  9-22-2017\, 10-6-2017\, 10-20-2017\, and 11-9-2017. \n\n \n\nThanks.\n\nCarol Eakins
X-ALT-DESC;FMTTYPE=text/html:<div>This is the first of five in-store flu clinics that Carmichael&#39\;s will offer to the public for the 2017 flu season.&nbsp\; The other dates are:&nbsp\; 9-22-2017\, 10-6-2017\, 10-20-2017\, and 11-9-2017.&nbsp\;</div>\n\n<div>&nbsp\;</div>\n\n<div>Thanks.</div>\n\n<div>Carol Eakins</div>\n\n<div>&nbsp\;</div>\n
LOCATION:
UID:e.1627.3928
SEQUENCE:3
DTSTAMP:20260422T143308Z
URL:https://business.newtonchamber.com/events/details/in-store-flu-clinics-3928
END:VEVENT

END:VCALENDAR
