BEGIN:VCALENDAR
VERSION:2.0
PRODID:-//ChamberMaster//Event Calendar 2.0//EN
METHOD:PUBLISH
X-PUBLISHED-TTL:P3D
REFRESH-INTERVAL:P3D
CALSCALE:GREGORIAN
BEGIN:VEVENT
DTSTART:20240418T213000Z
DTEND:20240418T223000Z
X-MICROSOFT-CDO-ALLDAYEVENT:FALSE
SUMMARY:Hospice How To
DESCRIPTION:Did you know hospice isn't just for end of life care? Peaceful Purpose Hospice is joining us and breaking down the basics to show you how hospice can help.\n\nPlease\, call to RSVP by April 15
X-ALT-DESC;FMTTYPE=text/html:Did you know hospice isn&#39\;t just for end of life care? Peaceful Purpose Hospice is joining us and breaking down the basics to show you how hospice can help.<br />\n<em><strong>Please\, call to RSVP by April 15</strong></em>
LOCATION:Benton House of Covington 7155 Dearing Road Covington\, GA 30014
UID:e.1627.12944
SEQUENCE:3
DTSTAMP:20260419T151131Z
URL:https://business.newtonchamber.com/events/details/hospice-how-to-12944
END:VEVENT

END:VCALENDAR
