BEGIN:VCALENDAR
VERSION:2.0
PRODID:-//ChamberMaster//Event Calendar 2.0//EN
METHOD:PUBLISH
X-PUBLISHED-TTL:P3D
REFRESH-INTERVAL:P3D
CALSCALE:GREGORIAN
BEGIN:VEVENT
DTSTART:20180706T180000Z
DTEND:20180706T190000Z
X-MICROSOFT-CDO-ALLDAYEVENT:FALSE
SUMMARY:Homemade Ice Cream Tasting
DESCRIPTION:Join us and enjoy this delicious treat!  Pile on your favorite fixins' to compliment some of the best ice cream flavors.
X-ALT-DESC;FMTTYPE=text/html:Join us and enjoy this delicious treat!&nbsp\; Pile on your favorite fixins&#39\; to compliment some of the best ice cream flavors.
LOCATION:Benton House of Covington 7155 Dearing Rd. Covington\, GA 30014
UID:e.1627.6671
SEQUENCE:3
DTSTAMP:20260423T015714Z
URL:https://business.newtonchamber.com/events/details/homemade-ice-cream-tasting-6671
END:VEVENT

END:VCALENDAR
