BEGIN:VCALENDAR
VERSION:2.0
PRODID:-//ChamberMaster//Event Calendar 2.0//EN
METHOD:PUBLISH
X-PUBLISHED-TTL:P3D
REFRESH-INTERVAL:P3D
CALSCALE:GREGORIAN
BEGIN:VEVENT
DTSTART:20161112T160000Z
DTEND:20161112T210000Z
X-MICROSOFT-CDO-ALLDAYEVENT:FALSE
SUMMARY:Historic Newborn Schoolhouse Fall Festival
DESCRIPTION:Come and joins us for our annual Fall Festival. We will be have Food Trucks\, Story Telling\, Scavenger Hunt\, Games\, Music and Crafts. Fun for the whole family! We hope to see you there!
X-ALT-DESC;FMTTYPE=text/html:<h1 style="font-style: italic\;"><span style="font-family:times new roman"><strong>Come and joins us for our annual Fall Festival. We will be have Food Trucks\, Story Telling\, Scavenger Hunt\, Games\, Music and Crafts. Fun for the whole family! We hope to see you there!&nbsp\;</strong></span></h1>\n
LOCATION:Fall Festival will be held at the Historic Schoolhouse in Newborn - located at 4326 Hwy 142
UID:e.1627.3081
SEQUENCE:3
DTSTAMP:20260422T000354Z
URL:https://business.newtonchamber.com/events/details/historic-newborn-schoolhouse-fall-festival-3081
END:VEVENT

END:VCALENDAR
