BEGIN:VCALENDAR
VERSION:2.0
PRODID:-//ChamberMaster//Event Calendar 2.0//EN
METHOD:PUBLISH
X-PUBLISHED-TTL:P3D
REFRESH-INTERVAL:P3D
CALSCALE:GREGORIAN
BEGIN:VEVENT
DTSTART;VALUE=DATE:20180412
DTEND;VALUE=DATE:20180413
TRANSP:TRANSPARENT
X-MICROSOFT-CDO-ALLDAYEVENT:TRUE
SUMMARY:Happy Hour On Thursday Evenings at The Oaks Course
DESCRIPTION:Thursday Happy Hour
X-ALT-DESC;FMTTYPE=text/html:Thursday Happy Hour
LOCATION:The Oaks Course 11240 Brown Bridge Road Covington\, Ga 30014 770-786-3801
UID:e.1627.5600
SEQUENCE:3
DTSTAMP:20260423T015932Z
URL:https://business.newtonchamber.com/events/details/happy-hour-on-thursday-evenings-at-the-oaks-course-5600
END:VEVENT

END:VCALENDAR
