BEGIN:VCALENDAR
VERSION:2.0
PRODID:-//ChamberMaster//Event Calendar 2.0//EN
METHOD:PUBLISH
X-PUBLISHED-TTL:P3D
REFRESH-INTERVAL:P3D
CALSCALE:GREGORIAN
BEGIN:VEVENT
DTSTART;VALUE=DATE:20180621
DTEND;VALUE=DATE:20180622
TRANSP:TRANSPARENT
X-MICROSOFT-CDO-ALLDAYEVENT:TRUE
SUMMARY:Happy Hour On Thursday Evenings at The Oaks Course
DESCRIPTION:Come see us for Happy Hour! Different drink special each week.
X-ALT-DESC;FMTTYPE=text/html:Come see us for Happy Hour! Different drink special each week.
LOCATION:
UID:e.1627.6658
SEQUENCE:3
DTSTAMP:20260423T050202Z
URL:https://business.newtonchamber.com/events/details/happy-hour-on-thursday-evenings-at-the-oaks-course-06-21-2018-6658
END:VEVENT

END:VCALENDAR
