BEGIN:VCALENDAR
VERSION:2.0
PRODID:-//ChamberMaster//Event Calendar 2.0//EN
METHOD:PUBLISH
X-PUBLISHED-TTL:P3D
REFRESH-INTERVAL:P3D
CALSCALE:GREGORIAN
BEGIN:VEVENT
DTSTART:20171028T221500Z
DTEND:20171029T010000Z
X-MICROSOFT-CDO-ALLDAYEVENT:FALSE
SUMMARY:Halloween Glow Yak Paddle
DESCRIPTION:Roth Wild Adventures hosts a Halloween Glow Yak Paddle on the Yellow River. Paddle departs from Porterdale Yellow Park. Decorate your boats with all sorts of spooky fun stuff and enjoy an evening paddle. All particiapants must be wearing a personal flotation device.
X-ALT-DESC;FMTTYPE=text/html:Roth Wild Adventures hosts a Halloween Glow Yak Paddle on the Yellow River. Paddle departs from Porterdale Yellow Park. Decorate your boats with all sorts of spooky fun stuff and enjoy an evening paddle. All particiapants must be wearing a personal flotation device.
LOCATION:Porterdale Yellow River Park - Hemlock and Peachtree St.
UID:e.1627.4061
SEQUENCE:3
DTSTAMP:20260422T155844Z
URL:https://business.newtonchamber.com/events/details/halloween-glow-yak-paddle-4061
END:VEVENT

END:VCALENDAR
