BEGIN:VCALENDAR
VERSION:2.0
PRODID:-//ChamberMaster//Event Calendar 2.0//EN
METHOD:PUBLISH
X-PUBLISHED-TTL:P3D
REFRESH-INTERVAL:P3D
CALSCALE:GREGORIAN
BEGIN:VEVENT
DTSTART:20161014T223000Z
DTEND:20161015T000000Z
X-MICROSOFT-CDO-ALLDAYEVENT:FALSE
SUMMARY:Halloween Bingo
DESCRIPTION:Come join us at the Old Newborn Schoolhouse for Halloween Bingo! Costumes are welcome\, but not required.\n\nDinner or snacks available for purchase.
X-ALT-DESC;FMTTYPE=text/html:<strong>Come join us at the Old Newborn Schoolhouse for Halloween Bingo! Costumes are welcome\, but not required.<br />\nDinner or snacks available for purchase.&nbsp\;</strong>
LOCATION:4326 Hwy 142\, Newborn\, GA 30056
UID:e.1627.3082
SEQUENCE:3
DTSTAMP:20260421T223323Z
URL:https://business.newtonchamber.com/events/details/halloween-bingo-3082
END:VEVENT

END:VCALENDAR
