BEGIN:VCALENDAR
VERSION:2.0
PRODID:-//ChamberMaster//Event Calendar 2.0//EN
METHOD:PUBLISH
X-PUBLISHED-TTL:P3D
REFRESH-INTERVAL:P3D
CALSCALE:GREGORIAN
BEGIN:VEVENT
DTSTART:20170617T130000Z
DTEND:20170618T010000Z
X-MICROSOFT-CDO-ALLDAYEVENT:FALSE
SUMMARY:Gwen's Island Diner Grand Opening
DESCRIPTION:Celebrate the Grand Opening of the only Jamaican-American Restaurant in town!\n\nCome and check us out. \n\nWe will have door prizes and other entertainment. \n\n\n\nCome and eat finer at Gwen's Island Diner!\n\n\n\nOpen for Breakfast\, Lunch\, & Dinner!\n\nServing Desserts!
X-ALT-DESC;FMTTYPE=text/html:Celebrate the Grand Opening of the only Jamaican-American Restaurant in town!<br />\nCome and check us out.&nbsp\;<br />\nWe will have door prizes and other entertainment.&nbsp\;<br />\n<br />\nCome and eat finer at Gwen&#39\;s Island Diner!<br />\n<br />\nOpen for Breakfast\, Lunch\, &amp\; Dinner!<br />\nServing Desserts!
LOCATION:7100 Washington St Covington\, GA\, 30014 Located off of Turner Lake Rd at the Washington St Intersection.
UID:e.1627.3923
SEQUENCE:3
DTSTAMP:20260422T104149Z
URL:https://business.newtonchamber.com/events/details/gwen-s-island-diner-grand-opening-3923
END:VEVENT

END:VCALENDAR
