BEGIN:VCALENDAR
VERSION:2.0
PRODID:-//ChamberMaster//Event Calendar 2.0//EN
METHOD:PUBLISH
X-PUBLISHED-TTL:P3D
REFRESH-INTERVAL:P3D
CALSCALE:GREGORIAN
BEGIN:VEVENT
DTSTART;VALUE=DATE:20181020
DTEND;VALUE=DATE:20181021
TRANSP:TRANSPARENT
X-MICROSOFT-CDO-ALLDAYEVENT:TRUE
SUMMARY:GWA Dawgs Unleashed Family Festival
DESCRIPTION:Dawgs Unleashed is an annual community event that's open to the public. It consists of several smaller events that are typically spread out over the course of one week in mid-October: the golf tournament\, tennis tournament\, road race and fall festival. Registration for the various components of Dawgs Unleashed typically opens in September and continues up through the day of the event.  \n\nGolf Tournament\n\nMonday\, Oct. 15\n\nMonroe Golf & Country Club\n\nCLICK HERE to download registration form\n\nSOLD OUT: to be added to wait list\, email emcdonel@gwa.com\n\n \n\nTennis Tournament\n\nTuesday\, Oct. 16\n\nSummit Chase Country Club\n\nCLICK HERE to download registration form\n\n \n\n5K\, Fun Run\, & Fall Festival\n\nSaturday\, Oct. 20\n\nGWA Campus\n\nCLICK HERE to download 5K & Fun Run registration form\n\nCLICK HERE to be for festival exhibitor and vendor application\n\n \n\nCLICK HERE to sign up to be a Dawgs Unleashed sponsor
X-ALT-DESC;FMTTYPE=text/html:<p>Dawgs Unleashed is an annual community event that&rsquo\;s open to the public. It consists of several smaller events that are typically spread out over the course of one week in mid-October: the golf tournament\, tennis tournament\, road race and fall festival. Registration for the various components of Dawgs Unleashed&nbsp\;typically&nbsp\;opens in&nbsp\;September&nbsp\;and continues up through the day of the event.&nbsp\;&nbsp\;</p>\n\n<h3>Golf Tournament</h3>\n\n<div style="background:rgb(242\, 240\, 241)\; border:0px\; padding:0px">Monday\, Oct. 15</div>\n\n<div style="background:rgb(242\, 240\, 241)\; border:0px\; padding:0px">Monroe Golf &amp\; Country Club</div>\n\n<div style="background:rgb(242\, 240\, 241)\; border:0px\; padding:0px"><a href="http://www.gwa.com/editoruploads/files/Support%20Files/DawgsUnleashedGolf2018(1).pdf" style="margin: 0px\; padding: 0px\; vertical-align: baseline\; background: transparent\; text-decoration-line: none\; color: rgb(0\, 0\, 0)\; font-weight: bold\;">CLICK HERE</a>&nbsp\;to download registration form</div>\n\n<div style="background:rgb(242\, 240\, 241)\; border:0px\; padding:0px"><strong>SOLD OUT:&nbsp\;</strong>to be added to wait list\, email emcdonel@gwa.com</div>\n\n<p>&nbsp\;</p>\n\n<h3>Tennis Tournament</h3>\n\n<div style="background:rgb(242\, 240\, 241)\; border:0px\; padding:0px">Tuesday\, Oct. 16</div>\n\n<div style="background:rgb(242\, 240\, 241)\; border:0px\; padding:0px">Summit Chase Country Club</div>\n\n<div style="background:rgb(242\, 240\, 241)\; border:0px\; padding:0px"><a href="http://www.gwa.com/editoruploads/files/Support%20Files/DawgsUnleashedTennis2018(1).pdf" style="margin: 0px\; padding: 0px\; vertical-align: baseline\; background: transparent\; text-decoration-line: none\; color: rgb(0\, 0\, 0)\; font-weight: bold\;">CLICK HERE</a>&nbsp\;to download registration form</div>\n\n<p>&nbsp\;</p>\n\n<h3>5K\, Fun Run\, &amp\; Fall Festival</h3>\n\n<div style="background:rgb(242\, 240\, 241)\; border:0px\; padding:0px">Saturday\, Oct. 20</div>\n\n<div style="background:rgb(242\, 240\, 241)\; border:0px\; padding:0px">GWA Campus</div>\n\n<div style="background:rgb(242\, 240\, 241)\; border:0px\; padding:0px"><a href="https://georgewaltonacademy-my.sharepoint.com/personal/ljones_gwa_com/_layouts/15/onedrive.aspx?id=%2Fpersonal%2Fljones_gwa_com%2FDocuments%2F2018-2019SchoolYear%2FGWA%20Dawgs%20Unleashed%2FDawgsUnleashed5kfunrun2018%2Epdf&amp\;parent=%2Fpersonal%2Fljones_gwa_com%2FDocuments%2F2018-2019SchoolYear%2FGWA%20Dawgs%20Unleashed&amp\;slrid=e0368e9e-508e-6000-c591-1d7531d1cbe7" style="margin: 0px\; padding: 0px\; vertical-align: baseline\; background: transparent\; text-decoration-line: none\; color: rgb(0\, 0\, 0)\; font-weight: bold\;">CLICK HERE</a>&nbsp\;to download 5K&nbsp\;&amp\; Fun Run registration form</div>\n\n<div style="background:rgb(242\, 240\, 241)\; border:0px\; padding:0px"><a href="http://www.gwa.com/editoruploads/files/Support%20Files/DawgsUnleashedApplication2018.pdf" style="margin: 0px\; padding: 0px\; vertical-align: baseline\; background: transparent\; text-decoration-line: none\; color: rgb(0\, 0\, 0)\; font-weight: bold\;">CLICK HERE</a>&nbsp\;to be for festival exhibitor and vendor application</div>\n\n<div style="background:rgb(242\, 240\, 241)\; border:0px\; padding:0px">&nbsp\;</div>\n\n<h3><a href="http://www.gwa.com/editoruploads/files/Support%20Files/DawgsUnleashedSponsorship2018.pdf" style="margin: 0px\; padding: 0px\; vertical-align: baseline\; background: transparent\; text-decoration-line: none\; color: rgb(0\, 0\, 0)\;">CLICK HERE</a>&nbsp\;to sign up to be a Dawgs Unleashed sponsor</h3>\n
LOCATION:George Walton Academy at One Bulldog Drive\, Monroe\, GA 30655.
UID:e.1627.6820
SEQUENCE:3
DTSTAMP:20260422T204512Z
URL:https://business.newtonchamber.com/events/details/gwa-dawgs-unleashed-family-festival-6820
END:VEVENT

END:VCALENDAR
