BEGIN:VCALENDAR
VERSION:2.0
PRODID:-//ChamberMaster//Event Calendar 2.0//EN
METHOD:PUBLISH
X-PUBLISHED-TTL:P3D
REFRESH-INTERVAL:P3D
CALSCALE:GREGORIAN
BEGIN:VEVENT
DTSTART:20170202T160000Z
DTEND:20170202T173000Z
X-MICROSOFT-CDO-ALLDAYEVENT:FALSE
SUMMARY:Group Study on Personal Growth - Thursday Session
DESCRIPTION:Raise your performance for 2017 by focusing on growing yourself. This 8-wk Mastermind Group puts you among others focused on the same goal - PERSONAL GROWTH. Save 10% on registration. \nCost: $400 (includes book and participant guide) Special Offer   SAVE 10% ($360)\n\n\nTo register email andrea@idgvision.com or call 770-648-3758. Limited seating\, so reserve your spot today.
X-ALT-DESC;FMTTYPE=text/html:Raise your performance for 2017 by focusing on growing yourself. This 8-wk Mastermind Group puts you among others focused on the same goal - PERSONAL GROWTH. Save 10% on registration.&nbsp\;\n<div style="text-align:center"><strong>Cost:&nbsp\;<s>$400</s>&nbsp\;</strong><span style="font-size:14pt">(includes book and participant guide)&nbsp\;<span style="color:red">Special Offer &ndash\; SAVE 10% ($360)</span></span></div>\n<br />\n<span style="font-size:14pt"><span style="color:red">To register email andrea@idgvision.com or call 770-648-3758. Limited seating\, so reserve your spot today.</span></span>
LOCATION:1122 Monticello St\, Suite 12 (The JW Group) Covington\, GA 30014
UID:e.1627.3745
SEQUENCE:3
DTSTAMP:20260422T043039Z
URL:https://business.newtonchamber.com/events/details/group-study-on-personal-growth-thursday-session-02-02-2017-3745
END:VEVENT

END:VCALENDAR
