BEGIN:VCALENDAR
VERSION:2.0
PRODID:-//ChamberMaster//Event Calendar 2.0//EN
METHOD:PUBLISH
X-PUBLISHED-TTL:P3D
REFRESH-INTERVAL:P3D
CALSCALE:GREGORIAN
BEGIN:VEVENT
DTSTART:20180428T143000Z
DTEND:20180428T180000Z
X-MICROSOFT-CDO-ALLDAYEVENT:FALSE
SUMMARY:Great Yellow River Park Rock Hunt
DESCRIPTION:Newton County GA Rocks with partnership from the City of Porterdale hosts Family Day at  the Yellow Porterdale Yellow River Park - Scavenger Hunts\, super-sized yard games\, kite flying and lots of fun. BYO picnic lunch.
X-ALT-DESC;FMTTYPE=text/html:Newton County GA Rocks with partnership from the City of Porterdale hosts Family Day at&nbsp\; the Yellow Porterdale Yellow River Park - Scavenger Hunts\, super-sized yard games\, kite flying and lots of fun. BYO picnic lunch.
LOCATION:Porterdale Yellow River Park - entrance Hemlock St. Porterdale
UID:e.1627.6627
SEQUENCE:3
DTSTAMP:20260423T015652Z
URL:https://business.newtonchamber.com/events/details/great-yellow-river-park-rock-hunt-6627
END:VEVENT

END:VCALENDAR
