BEGIN:VCALENDAR
VERSION:2.0
PRODID:-//ChamberMaster//Event Calendar 2.0//EN
METHOD:PUBLISH
X-PUBLISHED-TTL:P3D
REFRESH-INTERVAL:P3D
CALSCALE:GREGORIAN
BEGIN:VEVENT
DTSTART:20171028T160000Z
DTEND:20171028T200000Z
X-MICROSOFT-CDO-ALLDAYEVENT:FALSE
SUMMARY:Grand Opening "Hype Cycle" Indoor Spin Studio
DESCRIPTION:Come out to CELEBRATE (Party on/off the bike) with us for our GRAND OPENING  \n\nQualify for a chance to WIN a FREE 2-week pass to the class! \n\nFREE: Food\, Drinks\, Prizes and Trick-O-Treat bags for children!\n\nCome out and TEST your SKILLS on the bike:  SIGN UP NOW!! Three 30 min. RIDES for $5 each!!\n\n@ 1p.m. CYCLE 4 a CURE (Raise money for BREAST CANCER by getting your miles in!!)\n\n@ 2p.m. RIDE 4 THE PRIZE (Get the HIGHEST MILES and WIN the PRIZE!!)\n\n@ 3p.m. RESISTANCE & ROUTINES (Beginners LEARN the TECHNIQUE/ PARTY on the BIKE) \n\nPROMO OFFER: $59.00 One month of unlimited rides!!!
X-ALT-DESC;FMTTYPE=text/html:<p>Come out to&nbsp\;<strong>CELEBRATE</strong>&nbsp\;(Party on/off the bike) with us for our GRAND OPENING&nbsp\;&nbsp\;</p>\n\n<p>Qualify for a chance to&nbsp\;<strong>WIN a FREE 2-week pass</strong>&nbsp\;to the class!&nbsp\;</p>\n\n<p><strong>FREE:</strong>&nbsp\;Food\, Drinks\, Prizes and&nbsp\;Trick-O-Treat bags for children!</p>\n\n<p>Come out and TEST your SKILLS on the bike:&nbsp\;&nbsp\;<strong>SIGN UP NOW!!</strong>&nbsp\;Three 30 min. RIDES for $5 each!!</p>\n\n<p>@ 1p.m.&nbsp\;<strong>CYCLE 4 a CURE</strong>&nbsp\;(Raise money for BREAST CANCER by getting your miles in!!)</p>\n\n<p>@ 2p.m.&nbsp\;<strong>RIDE 4 THE PRIZE</strong>&nbsp\;(Get the HIGHEST MILES and WIN the PRIZE!!)</p>\n\n<p>@ 3p.m.&nbsp\;<strong>RESISTANCE &amp\; ROUTINES</strong>&nbsp\;(Beginners LEARN the TECHNIQUE/&nbsp\;<strong>PARTY on the BIKE</strong>)&nbsp\;</p>\n\n<p><strong>PROMO OFFER:&nbsp\;</strong>$59.00 One month of unlimited rides!!!</p>\n
LOCATION:The Dungeon Boxing Gym introduces "HYPE CYCLE" 11505 Brown Bridge Road Covington\, Georgia 30016
UID:e.1627.4063
SEQUENCE:3
DTSTAMP:20260422T160101Z
URL:https://business.newtonchamber.com/events/details/grand-opening-hype-cycle-indoor-spin-studio-4063
END:VEVENT

END:VCALENDAR
