BEGIN:VCALENDAR
VERSION:2.0
PRODID:-//ChamberMaster//Event Calendar 2.0//EN
METHOD:PUBLISH
X-PUBLISHED-TTL:P3D
REFRESH-INTERVAL:P3D
CALSCALE:GREGORIAN
BEGIN:VEVENT
DTSTART:20200410T233000Z
DTEND:20200411T003000Z
X-MICROSOFT-CDO-ALLDAYEVENT:FALSE
SUMMARY:Good Friday Service
DESCRIPTION:Come and join us for our Good Friday worship service.
X-ALT-DESC;FMTTYPE=text/html:Come and join us for our Good Friday worship service.
LOCATION:
UID:e.1627.8059
SEQUENCE:3
DTSTAMP:20260421T162933Z
URL:https://business.newtonchamber.com/events/details/good-friday-service-8059
END:VEVENT

END:VCALENDAR
