BEGIN:VCALENDAR
VERSION:2.0
PRODID:-//ChamberMaster//Event Calendar 2.0//EN
METHOD:PUBLISH
X-PUBLISHED-TTL:P3D
REFRESH-INTERVAL:P3D
CALSCALE:GREGORIAN
BEGIN:VEVENT
DTSTART;VALUE=DATE:20180604
DTEND;VALUE=DATE:20180605
TRANSP:TRANSPARENT
X-MICROSOFT-CDO-ALLDAYEVENT:TRUE
SUMMARY:Golf & Science Camp
DESCRIPTION:Golf & Science Camp. Go to golfoaks.com to register. Taking children ages 6 to 14.
X-ALT-DESC;FMTTYPE=text/html:Golf &amp\; Science Camp. Go to golfoaks.com to register. Taking children ages 6 to 14.
LOCATION:
UID:e.1627.6651
SEQUENCE:3
DTSTAMP:20260423T030922Z
URL:https://business.newtonchamber.com/events/details/golf-science-camp-6651
END:VEVENT

END:VCALENDAR
