BEGIN:VCALENDAR
VERSION:2.0
PRODID:-//ChamberMaster//Event Calendar 2.0//EN
METHOD:PUBLISH
X-PUBLISHED-TTL:P3D
REFRESH-INTERVAL:P3D
CALSCALE:GREGORIAN
BEGIN:VEVENT
DTSTART;VALUE=DATE:20180618
DTEND;VALUE=DATE:20180623
TRANSP:TRANSPARENT
X-MICROSOFT-CDO-ALLDAYEVENT:TRUE
SUMMARY:Golf & Science Camp
DESCRIPTION:Time is 9am to 3pm. Includes a snack and lunch. Taking ages 5 to 14. For more information go to golfoaks.com
X-ALT-DESC;FMTTYPE=text/html:Time is 9am to 3pm. Includes a snack and lunch. Taking ages 5 to 14. For more information go to golfoaks.com
LOCATION:
UID:e.1627.6661
SEQUENCE:3
DTSTAMP:20260423T031103Z
URL:https://business.newtonchamber.com/events/details/golf-science-camp-06-18-2018-6661
END:VEVENT

END:VCALENDAR
