BEGIN:VCALENDAR
VERSION:2.0
PRODID:-//ChamberMaster//Event Calendar 2.0//EN
METHOD:PUBLISH
X-PUBLISHED-TTL:P3D
REFRESH-INTERVAL:P3D
CALSCALE:GREGORIAN
BEGIN:VEVENT
DTSTART:20181108T170000Z
DTEND:20181108T180000Z
X-MICROSOFT-CDO-ALLDAYEVENT:FALSE
SUMMARY:GOAL Scholarship Lunch & Learn
DESCRIPTION:Peachtree Academy would like to invite you to our informational Lunch & Learn so you can understand how our GOAL Scholarship system operates. Georgia is one of several states in the nation that has an education tax credit law\, which allows you to contribute funds to be used for financial aid at our school\, and to receive a 100% credit for that contribution when you file your Georgia income taxes. In other words\, the state of Georgia is allowing you to 'spend' some of the taxes you must pay anyway in order to provide funds for deserving students to attend our school. \n\nBy contributing to Georgia GOAL   our partner student scholarship organization   you will have a critical\, positive impact on our school community by maximizing our available financial aid. This also means that your Annual Fund dollars can go further in meeting other critical school needs. \n\n The GOAL Program has strengthened our school in countless ways. \n\no Enrollment is higher than ever and we want to add more students to our outstanding school. \n\no Higher enrollment leads to more tuition income which keeps your cost lower. \n\no With steady enrollment and tuition income\, our school is able to:\n\n  Continue to improve the quality education and other offerings that you desire for your children \n\n  Keep your tuition rates from increasing as much as they would without this valuable program \n\n  Preserve more of our existing financial aid budget to assist families already enrolled \n\nImportant Point: This program is so popular and so successful that our state legislature nearly doubled it this year\, increasing the available education tax credits from $58 million to $100 million per year. Georgia's elected officials have recognized the amazing value in allowing taxpayers to direct their tax dollars toward improving K-12 education\, and in allowing parents to choose the schools that best meet their children's needs. \n\nJoin us to learn how you can contribute to this wonderful scholarship oppurtunity.\n\nIf you have any questions\, please contact me at info@peachtreeacademy.com or 770-860-8900 ext 1005. Thank you in advance for your important participation and for your support of Peachtree Academy!
X-ALT-DESC;FMTTYPE=text/html:<span style="color:rgb(29\, 33\, 41)\; font-family:helvetica\,arial\,sans-serif\; font-size:14px">Peachtree Academy would like to invite you to our informational Lunch &amp\; Learn so you can understand how our GOAL Scholarship system operates. Georgia is one of several states in the nation that has an education tax credit law\, which allows you to contribute funds to be used for financial aid at our school\, and to receive a 100% credit for that contribution when you file your Georgia income taxes. In other words\, the state of Georgia is allowing you to &lsquo\;spend&rsquo\; some of the taxes you must pay anyway in order to provide funds for deserving students to attend our school.&nbsp\;</span><br />\n<span style="color:rgb(29\, 33\, 41)\; font-family:helvetica\,arial\,sans-serif\; font-size:14px">By contributing to Georgia GOAL &ndash\; our partner student scholarship organization &ndash\; you will have a critical\, positive impact on our school community by maximizing our available financial aid. This also means that your Annual Fund dollars can go further in meeting other critical school needs.&nbsp\;</span><br />\n<span style="color:rgb(29\, 33\, 41)\; font-family:helvetica\,arial\,sans-serif\; font-size:14px">&middot\;The GOAL Program has strengthened our school in countless ways.&nbsp\;</span><br />\n<span style="color:rgb(29\, 33\, 41)\; font-family:helvetica\,arial\,sans-serif\; font-size:14px">o Enrollment is higher than ever and we want to add more students to our outstanding school.&nbsp\;</span><br />\n<span style="color:rgb(29\, 33\, 41)\; font-family:helvetica\,arial\,sans-serif\; font-size:14px">o Higher enrollment leads to more tuition income which keeps your cost lower.&nbsp\;</span><br />\n<span style="color:rgb(29\, 33\, 41)\; font-family:helvetica\,arial\,sans-serif\; font-size:14px">o With steady enrollment and tuition income\, our school is able to:</span><br />\n<span style="color:rgb(29\, 33\, 41)\; font-family:helvetica\,arial\,sans-serif\; font-size:14px">&sect\; Continue to improve the quality education and other offerings that you desire for your children&nbsp\;</span><br />\n<span style="color:rgb(29\, 33\, 41)\; font-family:helvetica\,arial\,sans-serif\; font-size:14px">&sect\; Keep your tuition rates from increasing as much as they would without this valuable program&nbsp\;</span><br />\n<span style="color:rgb(29\, 33\, 41)\; font-family:helvetica\,arial\,sans-serif\; font-size:14px">&sect\; Preserve more of our existing financial aid budget to assist families already enrolled&nbsp\;</span><br />\n<span style="color:rgb(29\, 33\, 41)\; font-family:helvetica\,arial\,sans-serif\; font-size:14px">Important Point: This program is so popular and so successful that our state legislature nearly doubled it this year\, increasing the available education tax credits from $58 million to $100 million per year. Georgia&rsquo\;s elected officials have recognized the amazing value in allowing taxpayers to direct their tax dollars toward improving K-12 education\, and in allowing parents to choose the schools that best meet their children&rsquo\;s needs.&nbsp\;</span><br />\n<span style="color:rgb(29\, 33\, 41)\; font-family:helvetica\,arial\,sans-serif\; font-size:14px">Join us to learn how you can contribute to this wonderful scholarship oppurtunity.</span><br />\n<span style="color:rgb(29\, 33\, 41)\; font-family:helvetica\,arial\,sans-serif\; font-size:14px">If you have any questions\, please contact me at info@peachtreeacademy.com or 770-860-8900 ext 1005. Thank you in advance for your important participation and for your support of Peachtree Academy!</span>
LOCATION:
UID:e.1627.6842
SEQUENCE:3
DTSTAMP:20260422T190110Z
URL:https://business.newtonchamber.com/events/details/goal-scholarship-lunch-learn-6842
END:VEVENT

END:VCALENDAR
