BEGIN:VCALENDAR
VERSION:2.0
PRODID:-//ChamberMaster//Event Calendar 2.0//EN
METHOD:PUBLISH
X-PUBLISHED-TTL:P3D
REFRESH-INTERVAL:P3D
CALSCALE:GREGORIAN
BEGIN:VEVENT
DTSTART:20180227T180000Z
DTEND:20180227T190000Z
X-MICROSOFT-CDO-ALLDAYEVENT:FALSE
SUMMARY:Go Red Luncheon
DESCRIPTION:Celebrate Heart Month with a hearty lunch and healthy heart\n\ninformation. Remember to wear your red! Kindly RSVP 770-788-6660
X-ALT-DESC;FMTTYPE=text/html:Celebrate Heart Month with a hearty lunch and healthy heart<br />\ninformation. Remember to wear your red! Kindly RSVP 770-788-6660
LOCATION:Benton House Covington 7155 Dearing Road Covington\, GA 30014
UID:e.1627.4389
SEQUENCE:3
DTSTAMP:20260422T222645Z
URL:https://business.newtonchamber.com/events/details/go-red-luncheon-4389
END:VEVENT

END:VCALENDAR
