BEGIN:VCALENDAR
VERSION:2.0
PRODID:-//ChamberMaster//Event Calendar 2.0//EN
METHOD:PUBLISH
X-PUBLISHED-TTL:P3D
REFRESH-INTERVAL:P3D
CALSCALE:GREGORIAN
BEGIN:VEVENT
DTSTART;VALUE=DATE:20170325
DTEND;VALUE=DATE:20170327
TRANSP:TRANSPARENT
X-MICROSOFT-CDO-ALLDAYEVENT:TRUE
SUMMARY:GNCC Maxxis Cannonball presented by AMSOIL
DESCRIPTION:Looking for something fun to do in March? We'll be just down the road in Sparta\, GA March 25 & 26 for Round 3 of the 2017 AMSOIL/GNCC Racing series at the MAXXIS Cannonball at Hill Family Farm. Stop by our Series Sponsor AMSOIL Trailer and give us a yell. We'll have the "Products the Pro's Use"! \n\nFor more information on the weekend schedule click here: http://bit.ly/1QLxN7T \n\n\n\nIf you like off-road racing of any type\, this is a FUN event. Especially when the 4 & 5 year olds hit the track!
X-ALT-DESC;FMTTYPE=text/html:<span style="color:rgb(66\, 66\, 66)\; font-family:arial\,helvetica\,sans-serif\; font-size:12px">Looking for something fun to do in March? We&#39\;ll be just down the road in Sparta\, GA March 25 &amp\; 26 for Round 3 of the 2017 AMSOIL/GNCC Racing series at the MAXXIS Cannonball at Hill Family Farm. Stop by our Series Sponsor AMSOIL Trailer and give us a yell. We&#39\;ll have the &quot\;Products the Pro&#39\;s Use&quot\;!&nbsp\;</span><br />\n<span style="color:rgb(66\, 66\, 66)\; font-family:arial\,helvetica\,sans-serif\; font-size:12px">For more information on the weekend schedule click here: <a href="http://bit.ly/1QLxN7T" target="_blank">http://bit.ly/1QLxN7T</a>&nbsp\;</span><br />\n<br />\n<span style="color:rgb(66\, 66\, 66)\; font-family:arial\,helvetica\,sans-serif\; font-size:12px">If you like off-road racing of any type\, this is a FUN event. Especially when the 4 &amp\; 5 year olds hit the track!</span>
LOCATION:Hill Family Farm 2552 Sam Hill Road Sparta\, GA 31087
UID:e.1627.3783
SEQUENCE:3
DTSTAMP:20260422T061947Z
URL:https://business.newtonchamber.com/events/details/gncc-maxxis-cannonball-presented-by-amsoil-3783
END:VEVENT

END:VCALENDAR
