BEGIN:VCALENDAR
VERSION:2.0
PRODID:-//ChamberMaster//Event Calendar 2.0//EN
METHOD:PUBLISH
X-PUBLISHED-TTL:P3D
REFRESH-INTERVAL:P3D
CALSCALE:GREGORIAN
BEGIN:VEVENT
DTSTART:20181202T210000Z
DTEND:20181203T000000Z
X-MICROSOFT-CDO-ALLDAYEVENT:FALSE
SUMMARY:Gingerbread Christmas
DESCRIPTION:Food\, Fun\, Music\, Photos with Santa\, Games\, Crafts\, Carols by the Campfire\, Gingerbread House Contest\, Tree Lighting\, Devotional and much more! FREE
X-ALT-DESC;FMTTYPE=text/html:Food\, Fun\, Music\, Photos with Santa\, Games\, Crafts\, Carols by the Campfire\, Gingerbread House Contest\, Tree Lighting\, Devotional and much more! FREE&nbsp\;
LOCATION:George Walton Academy 1 Bulldog Drive Monroe\, GA 30655
UID:e.1627.6844
SEQUENCE:3
DTSTAMP:20260422T172434Z
URL:https://business.newtonchamber.com/events/details/gingerbread-christmas-6844
END:VEVENT

END:VCALENDAR
