BEGIN:VCALENDAR
VERSION:2.0
PRODID:-//ChamberMaster//Event Calendar 2.0//EN
METHOD:PUBLISH
X-PUBLISHED-TTL:P3D
REFRESH-INTERVAL:P3D
CALSCALE:GREGORIAN
BEGIN:VEVENT
DTSTART:20171006T230000Z
DTEND:20171007T030000Z
X-MICROSOFT-CDO-ALLDAYEVENT:FALSE
SUMMARY:Georgia Theater presents T.Hardy Morris and Tedo at Porter Memorial Gym - October 6\, 2017 at 7pm
DESCRIPTION:Gerogia Theater in partnership with the Village of Porterdale is pleased to present T.Hardy Morris  and Tedo Stone at Porter Memorial Gym\, Tickets are $15.00 and avaialable on TICKETFLY
X-ALT-DESC;FMTTYPE=text/html:Gerogia Theater in partnership with the Village of Porterdale is pleased to present T.Hardy Morris &nbsp\;and Tedo Stone at Porter Memorial Gym\, Tickets are $15.00 and avaialable on TICKETFLY
LOCATION:Porter Memorial Gym - 2201 Main Street\, Porterdale\, 30014
UID:e.1627.4060
SEQUENCE:3
DTSTAMP:20260422T160319Z
URL:https://business.newtonchamber.com/events/details/georgia-theater-presents-t-hardy-morris-and-tedo-at-porter-memorial-gym-october-6-2017-at-7pm-4060
END:VEVENT

END:VCALENDAR
