BEGIN:VCALENDAR
VERSION:2.0
PRODID:-//ChamberMaster//Event Calendar 2.0//EN
METHOD:PUBLISH
X-PUBLISHED-TTL:P3D
REFRESH-INTERVAL:P3D
CALSCALE:GREGORIAN
BEGIN:VEVENT
DTSTART:20161110T210000Z
DTEND:20161110T213000Z
X-MICROSOFT-CDO-ALLDAYEVENT:FALSE
SUMMARY:Georgia Ophthalmologists~~RIBBON CUTTING~~
DESCRIPTION:RIBBON CUTTING~~Georgia Ophthalmologists
X-ALT-DESC;FMTTYPE=text/html:RIBBON CUTTING~~Georgia Ophthalmologists &nbsp\;&nbsp\;
LOCATION:Georgia Ophthalmologists 4159 Mill Street Covington\, GA 30014 (770) 786-1234
UID:e.1627.3689
SEQUENCE:3
DTSTAMP:20260422T000200Z
URL:https://business.newtonchamber.com/events/details/georgia-ophthalmologists-ribbon-cutting-3689
END:VEVENT

END:VCALENDAR
