BEGIN:VCALENDAR
VERSION:2.0
PRODID:-//ChamberMaster//Event Calendar 2.0//EN
METHOD:PUBLISH
X-PUBLISHED-TTL:P3D
REFRESH-INTERVAL:P3D
CALSCALE:GREGORIAN
BEGIN:VEVENT
DTSTART:20190417T130000Z
DTEND:20190417T170000Z
X-MICROSOFT-CDO-ALLDAYEVENT:FALSE
SUMMARY:George Walton Academy Walk-In Wednesday
DESCRIPTION:Discover why George Walton Academy is the area's premier choice for PK3 - 12th grade education. Visit during Walk-In Wednesday\, April 17th. RSVP to Cari Bailey\, Director of Admission\, cbailey@gwa.com\, or call 678-635-3800.
X-ALT-DESC;FMTTYPE=text/html:Discover why George Walton Academy is the area&#39\;s premier choice for PK3 - 12th grade education. Visit during Walk-In Wednesday\, April 17th. RSVP to Cari Bailey\, Director of Admission\, cbailey@gwa.com\, or call 678-635-3800.&nbsp\;
LOCATION:George Walton Academy One Bulldog Drive Monroe\, GA 30655
UID:e.1627.6932
SEQUENCE:3
DTSTAMP:20260422T112201Z
URL:https://business.newtonchamber.com/events/details/george-walton-academy-walk-in-wednesday-6932
END:VEVENT

END:VCALENDAR
