BEGIN:VCALENDAR
VERSION:2.0
PRODID:-//ChamberMaster//Event Calendar 2.0//EN
METHOD:PUBLISH
X-PUBLISHED-TTL:P3D
REFRESH-INTERVAL:P3D
CALSCALE:GREGORIAN
BEGIN:VEVENT
DTSTART:20190414T180000Z
DTEND:20190414T200000Z
X-MICROSOFT-CDO-ALLDAYEVENT:FALSE
SUMMARY:George Walton Academy Open House
DESCRIPTION:Families are invited to discover George Walton Academy at the Spring Open House and learn why GWA is the area's premier choice for PK3 - 12th grade education. RSVP to Cari Bailey\, Director of Admissions\, at cbailey@gwa.com. Call 678-635-3800 for more information.
X-ALT-DESC;FMTTYPE=text/html:<p>Families are invited to discover George Walton Academy at the Spring Open House and learn why GWA is the area&#39\;s premier choice for PK3 - 12th grade education.&nbsp\;<a href="mailto:cbailey@gwa.com?subject=OPen%20House%20RSVP" style="background: transparent\; margin: 0px\; padding: 0px\; vertical-align: baseline\; text-decoration-line: none\; color: rgb(0\, 0\, 0)\; font-weight: bold\;">RSVP</a>&nbsp\;to Cari Bailey\, Director of Admissions\, at cbailey@gwa.com. Call 678-635-3800 for more information.&nbsp\;</p>\n
LOCATION:George Walton Academy One Bulldog Drive Monroe\, GA 30655
UID:e.1627.6931
SEQUENCE:3
DTSTAMP:20260422T112115Z
URL:https://business.newtonchamber.com/events/details/george-walton-academy-open-house-6931
END:VEVENT

END:VCALENDAR
