BEGIN:VCALENDAR
VERSION:2.0
PRODID:-//ChamberMaster//Event Calendar 2.0//EN
METHOD:PUBLISH
X-PUBLISHED-TTL:P3D
REFRESH-INTERVAL:P3D
CALSCALE:GREGORIAN
BEGIN:VEVENT
DTSTART:20161201T160000Z
DTEND:20161201T163000Z
X-MICROSOFT-CDO-ALLDAYEVENT:FALSE
SUMMARY:Gents Grooming Lounge~~RIBBON CUTTING~~
DESCRIPTION:RIBBON CUTTING~~   Gents Grooming Lounge
X-ALT-DESC;FMTTYPE=text/html:RIBBON CUTTING~~ &nbsp\;&nbsp\;Gents Grooming Lounge
LOCATION:Gents Grooming Lounge 2104 Main ST Porterdale\, GEORGIA 30014 (770) 784-9888
UID:e.1627.3693
SEQUENCE:3
DTSTAMP:20260422T012033Z
URL:https://business.newtonchamber.com/events/details/gents-grooming-lounge-ribbon-cutting-3693
END:VEVENT

END:VCALENDAR
