BEGIN:VCALENDAR
VERSION:2.0
PRODID:-//ChamberMaster//Event Calendar 2.0//EN
METHOD:PUBLISH
X-PUBLISHED-TTL:P3D
REFRESH-INTERVAL:P3D
CALSCALE:GREGORIAN
BEGIN:VEVENT
DTSTART:20170609T230000Z
DTEND:20170610T030000Z
X-MICROSOFT-CDO-ALLDAYEVENT:FALSE
SUMMARY:Full Moon Glow Yak Paddle
DESCRIPTION:7:30 PM: Meet and Greet at Roth Wild Adventure Boat Depot - Start decorating kayaks/paddle boards with all the fun glow stuff you can handle.Kayak rentals available for $20 per boat from RWA\n\nPADDLE from 8-10 PM\n\nMovie and Ice-Cream at RWA Boat Depot Post-Paddle
X-ALT-DESC;FMTTYPE=text/html:<span style="font-size:11px"><span style="font-family:arial\,helvetica\,sans-serif">7:30 PM: Meet and Greet at Roth Wild Adventure Boat Depot - Start decorating kayaks/paddle boards with all the fun glow stuff you can handle.Kayak rentals available for $20 per boat from RWA<br />\nPADDLE from 8-10 PM<br />\nMovie and Ice-Cream at RWA Boat Depot Post-Paddle</span></span>
LOCATION:Roth Wild Adventures Boat Depot - Porterdale Historic Train Depot\, corner of Main and Hemlock Streets
UID:e.1627.3794
SEQUENCE:3
DTSTAMP:20260422T102430Z
URL:https://business.newtonchamber.com/events/details/full-moon-glow-yak-paddle-3794
END:VEVENT

END:VCALENDAR
