BEGIN:VCALENDAR
VERSION:2.0
PRODID:-//ChamberMaster//Event Calendar 2.0//EN
METHOD:PUBLISH
X-PUBLISHED-TTL:P3D
REFRESH-INTERVAL:P3D
CALSCALE:GREGORIAN
BEGIN:VEVENT
DTSTART:20241011T130000Z
DTEND:20241011T140000Z
X-MICROSOFT-CDO-ALLDAYEVENT:FALSE
SUMMARY:Fuel Up Friday
DESCRIPTION:
X-ALT-DESC;FMTTYPE=text/html:
LOCATION:Fuel Up Fridays is a new leads group that will meet on the 2nd and 4th Fridays of each month at the Chamber Conference Room. Contact Noelle Cosby\, noelle@lilyandsparrow.co\, if you are interested in joining the group!
UID:e.1627.12907
SEQUENCE:3
DTSTAMP:20260419T153917Z
URL:https://business.newtonchamber.com/events/details/fuel-up-friday-10-11-2024-12907
END:VEVENT

END:VCALENDAR
