BEGIN:VCALENDAR
VERSION:2.0
PRODID:-//ChamberMaster//Event Calendar 2.0//EN
METHOD:PUBLISH
X-PUBLISHED-TTL:P3D
REFRESH-INTERVAL:P3D
CALSCALE:GREGORIAN
BEGIN:VEVENT
DTSTART:20180608T190000Z
DTEND:20180608T200000Z
X-MICROSOFT-CDO-ALLDAYEVENT:FALSE
SUMMARY:Friends\, Family & Frozen Yogurt
DESCRIPTION:You're invited as we host a special party featuring frozen yogurt\, delicious toppings and music!
X-ALT-DESC;FMTTYPE=text/html:You&#39\;re invited as we host a special party featuring frozen yogurt\, delicious toppings and music!
LOCATION:Benton House Covington 7155 Dearing Road Covington\, GA 30014
UID:e.1627.6636
SEQUENCE:3
DTSTAMP:20260423T032133Z
URL:https://business.newtonchamber.com/events/details/friends-family-frozen-yogurt-6636
END:VEVENT

END:VCALENDAR
