BEGIN:VCALENDAR
VERSION:2.0
PRODID:-//ChamberMaster//Event Calendar 2.0//EN
METHOD:PUBLISH
X-PUBLISHED-TTL:P3D
REFRESH-INTERVAL:P3D
CALSCALE:GREGORIAN
BEGIN:VEVENT
DTSTART:20190412T210000Z
DTEND:20190412T230000Z
X-MICROSOFT-CDO-ALLDAYEVENT:FALSE
SUMMARY:Friday After 5
DESCRIPTION:TGIF! You have worked hard all week! We have a treat for you! \n\n\n\n \n\n\n\nJoin us for a fun filled evening of music\, free mini massage services and oxygen lounge sessions and get a complimentary drink at our neighbor RL's! \n\n\n\n \n\n\n\n- Bring your friends for an enjoyable girls night out!  \n\n\n\n- Prepay for your favorite services at a discounted rate!  \n\n\n\n- Brow waxing and threading will be available that evening! \n\n\n\n- Come relax and  wind down with a FREE oxygen lounge session!  \n\n\n\n- Prepay for any massage or facial for $25 off during event only!  \n\n\n\n- Also receive 15% off any retail products! \n\n\n\n \n\n\n\nYou don't want to miss this!
X-ALT-DESC;FMTTYPE=text/html:<div style="text-align:left">\n<div><span style="font-family:inherit"><span style="font-family:inherit">TGIF! You have worked hard all week! We have a treat for you! </span></span></div>\n</div>\n\n<div style="text-align:left">\n<div>&nbsp\;</div>\n</div>\n\n<div style="text-align:left">\n<div><span style="font-family:inherit"><span style="font-family:inherit">Join us for a fun filled evening of music\, free mini massage services and oxygen lounge sessions and get a complimentary drink at our neighbor RL&#39\;s! </span></span></div>\n</div>\n\n<div style="text-align:left">\n<div>&nbsp\;</div>\n</div>\n\n<div style="text-align:left">\n<div><span style="font-family:inherit"><span style="font-family:inherit">- Bring your friends for an enjoyable girls night out!&nbsp\; </span></span></div>\n</div>\n\n<div style="text-align:left">\n<div><span style="font-family:inherit"><span style="font-family:inherit">- Prepay for your favorite services at a discounted rate!&nbsp\; </span></span></div>\n</div>\n\n<div style="text-align:left">\n<div><span style="font-family:inherit"><span style="font-family:inherit">- Brow waxing and threading will be available that evening! </span></span></div>\n</div>\n\n<div style="text-align:left">\n<div><span style="font-family:inherit"><span style="font-family:inherit">- Come relax and&nbsp\; wind down with a FREE oxygen lounge session!&nbsp\; </span></span></div>\n</div>\n\n<div style="text-align:left">\n<div><span style="font-family:inherit"><span style="font-family:inherit">- Prepay for any massage or facial for $25 off during event only!&nbsp\; </span></span></div>\n</div>\n\n<div style="text-align:left">\n<div><span style="font-family:inherit"><span style="font-family:inherit">- Also receive 15% off any retail products! </span></span></div>\n</div>\n\n<div style="text-align:left">\n<div>&nbsp\;</div>\n</div>\n\n<div style="text-align:left">\n<div><span style="font-family:inherit"><span style="font-family:inherit">You don&#39\;t want to miss this!</span></span></div>\n</div>\n
LOCATION:Beauty Bar Med Spa 1109 Floyd St Ne Covington Ga
UID:e.1627.7201
SEQUENCE:3
DTSTAMP:20260422T110801Z
URL:https://business.newtonchamber.com/events/details/friday-after-5-7201
END:VEVENT

END:VCALENDAR
