BEGIN:VCALENDAR
VERSION:2.0
PRODID:-//ChamberMaster//Event Calendar 2.0//EN
METHOD:PUBLISH
X-PUBLISHED-TTL:P3D
REFRESH-INTERVAL:P3D
CALSCALE:GREGORIAN
BEGIN:VEVENT
DTSTART:20230511T160000Z
DTEND:20230511T170000Z
X-MICROSOFT-CDO-ALLDAYEVENT:FALSE
SUMMARY:FREE Live At Lunch Concerts on the Square - JJ Hardge (Jazz)
DESCRIPTION:
X-ALT-DESC;FMTTYPE=text/html:
LOCATION:Covington Square
UID:e.1627.11944
SEQUENCE:3
DTSTAMP:20260420T083745Z
URL:https://business.newtonchamber.com/events/details/free-live-at-lunch-concerts-on-the-square-jj-hardge-jazz-11944
END:VEVENT

END:VCALENDAR
