BEGIN:VCALENDAR
VERSION:2.0
PRODID:-//ChamberMaster//Event Calendar 2.0//EN
METHOD:PUBLISH
X-PUBLISHED-TTL:P3D
REFRESH-INTERVAL:P3D
CALSCALE:GREGORIAN
BEGIN:VEVENT
DTSTART:20190402T220000Z
DTEND:20190402T230000Z
X-MICROSOFT-CDO-ALLDAYEVENT:FALSE
SUMMARY:Free Educational Seminar-Friends & Family Night with Dr. Figiel
DESCRIPTION:Join Dr. Steven Figiel\, geriatric specialist\, to learn about the stages of Alzheimer's disease and what to expect.
X-ALT-DESC;FMTTYPE=text/html:<span style="font-size:16px"><span style="font-family:verdana">Join Dr. Steven Figiel\, geriatric specialist\, to learn about the stages of Alzheimer&#39\;s disease and what to expect.&nbsp\;</span></span>
LOCATION:Benton House of Covington 7155 Dearing Road Covington\, GA 30014
UID:e.1627.6933
SEQUENCE:3
DTSTAMP:20260422T112341Z
URL:https://business.newtonchamber.com/events/details/free-educational-seminar-friends-family-night-with-dr-figiel-6933
END:VEVENT

END:VCALENDAR
