BEGIN:VCALENDAR
VERSION:2.0
PRODID:-//ChamberMaster//Event Calendar 2.0//EN
METHOD:PUBLISH
X-PUBLISHED-TTL:P3D
REFRESH-INTERVAL:P3D
CALSCALE:GREGORIAN
BEGIN:VEVENT
DTSTART:20170412T220000Z
DTEND:20170412T230000Z
X-MICROSOFT-CDO-ALLDAYEVENT:FALSE
SUMMARY:Free Diabets Education Class
DESCRIPTION:This is our free monthly diabetes education class taught by Dr. Larry Briggs\, PharmD.  This month's emphasis is on Metabolic Syndrome.
X-ALT-DESC;FMTTYPE=text/html:This is our free&nbsp\;monthly diabetes education class taught by Dr. Larry Briggs\, PharmD.&nbsp\; This month&#39\;s emphasis is on Metabolic Syndrome.
LOCATION:Carmichael's of Covington at 9148-D Hwy 278\, Covington\, GA 30014
UID:e.1627.3785
SEQUENCE:3
DTSTAMP:20260422T073745Z
URL:https://business.newtonchamber.com/events/details/free-diabets-education-class-3785
END:VEVENT

END:VCALENDAR
