BEGIN:VCALENDAR
VERSION:2.0
PRODID:-//ChamberMaster//Event Calendar 2.0//EN
METHOD:PUBLISH
X-PUBLISHED-TTL:P3D
REFRESH-INTERVAL:P3D
CALSCALE:GREGORIAN
BEGIN:VEVENT
DTSTART:20190517T220000Z
DTEND:20190518T020000Z
X-MICROSOFT-CDO-ALLDAYEVENT:FALSE
SUMMARY:Food & Film at the Field
DESCRIPTION:Join us every third Friday in May-October for a movie at Legion Field!
X-ALT-DESC;FMTTYPE=text/html:Join us every third Friday in May-October for a movie at Legion Field!
LOCATION:3173 Mill St. Covington\, Ga
UID:e.1627.7230
SEQUENCE:3
DTSTAMP:20260422T095240Z
URL:https://business.newtonchamber.com/events/details/food-film-at-the-field-7230
END:VEVENT

END:VCALENDAR
